BEGIN:VCALENDAR
VERSION:2.0
PRODID:-//103.4.18.243//NONSGML kigkonsult.se iCalcreator 2.24.2//
CALSCALE:GREGORIAN
METHOD:PUBLISH
X-FROM-URL:https://www.bdhs.org.au
X-WR-TIMEZONE:UTC
BEGIN:VTIMEZONE
TZID:UTC
X-LIC-LOCATION:UTC
BEGIN:STANDARD
DTSTART:20190228T134749
TZOFFSETFROM:+0000
TZOFFSETTO:+0000
END:STANDARD
END:VTIMEZONE
BEGIN:VEVENT
UID:ai1ec-1524@www.bdhs.org.au/newsite
DTSTAMP:20190228T134749Z
CATEGORIES:
CONTACT:
DESCRIPTION:
DTSTART:20190125T140000Z
DTEND:20190125T160000Z
LOCATION:Dougherty's Bridge\, Coronation Ave
RRULE:FREQ=MONTHLY;UNTIL=20190616T235959Z;BYDAY=-1SU
SEQUENCE:0
SUMMARY:Battery Open
URL:https://www.bdhs.org.au/event/battery/
X-COST-TYPE:free
END:VEVENT
BEGIN:VEVENT
UID:ai1ec-1501@www.bdhs.org.au/newsite
DTSTAMP:20190228T134749Z
CATEGORIES:
CONTACT:
DESCRIPTION:
DTSTART:20190125T140000Z
DTEND:20190125T160000Z
LOCATION:Museum @ Railway St Bright
RRULE:FREQ=WEEKLY;UNTIL=20190616T235959Z;BYDAY=SU;WKST=MO
SEQUENCE:0
SUMMARY:Museum Open
URL:https://www.bdhs.org.au/event/museum/
X-COST-TYPE:free
END:VEVENT
END:VCALENDAR
